BEGIN:VCALENDAR
VERSION:2.0
PRODID:-//Tukios.com/
BEGIN:VEVENT
UID:9ee86948-5482-41eb-a481-6d5b31ab8cf0@www.bockenfunerals.com
DTSTAMP:20260420T230816Z
DTSTART:20260422T160000Z
DTEND:20260422T161500Z
SUMMARY:Family Gathering
DESCRIPTION:
URL:https://www.bockenfunerals.com/obituaries/alice-desmond
LOCATION: 7042 Kennedy Ave  Hammond IN 46323
GEO:41.5853013;-87.4619977
END:VEVENT
END:VCALENDAR