BEGIN:VCALENDAR
VERSION:2.0
PRODID:-//Tukios.com/
BEGIN:VEVENT
UID:2b23b7bb-8532-4cfc-befa-8c09064c9fce@www.bockenfunerals.com
DTSTAMP:20260420T230901Z
DTSTART:20260422T163000Z
DTEND:20260422T164500Z
SUMMARY:Graveside Service
DESCRIPTION:
URL:https://www.bockenfunerals.com/obituaries/alice-desmond
LOCATION: 1547 167th St  Hammond IN 46320
GEO:41.592472;-87.4900699
END:VEVENT
END:VCALENDAR