BEGIN:VCALENDAR
VERSION:2.0
PRODID:-//Tukios.com/
BEGIN:VEVENT
UID:f41160f3-8097-44a6-8010-a1b1da3e7abf@www.bockenfunerals.com
DTSTAMP:20260421T192616Z
DTSTART:20260423T210000Z
DTEND:20260424T010000Z
SUMMARY:Visitation
DESCRIPTION:
URL:https://www.bockenfunerals.com/obituaries/rev-richard-chmielik
LOCATION: 7042 Kennedy Ave  Hammond IN 46323
GEO:41.5853013;-87.4619977
END:VEVENT
END:VCALENDAR