BEGIN:VCALENDAR
VERSION:2.0
PRODID:-//Tukios.com/
BEGIN:VEVENT
UID:7c6c74dd-b94e-457d-9432-522c0c641ff3@www.bockenfunerals.com
DTSTAMP:20260421T192930Z
DTSTART:20260424T141500Z
DTEND:20260424T143000Z
SUMMARY:Prayer Service
DESCRIPTION:
URL:https://www.bockenfunerals.com/obituaries/rev-richard-chmielik
LOCATION: 7042 Kennedy Ave  Hammond IN 46323
GEO:41.5853013;-87.4619977
END:VEVENT
END:VCALENDAR