BEGIN:VCALENDAR
VERSION:2.0
PRODID:-//Tukios.com/
BEGIN:VEVENT
UID:2beed412-1e2c-46fb-aad2-c006b2f8e9f6@www.bockenfunerals.com
DTSTAMP:20260421T192027Z
DTSTART:20260424T150000Z
DTEND:20260424T154500Z
SUMMARY:Mass
DESCRIPTION:
URL:https://www.bockenfunerals.com/obituaries/rev-richard-chmielik
LOCATION: 7140 Arizona Avenue  Hammond IN 46323
GEO:41.5829957;-87.4595526
END:VEVENT
END:VCALENDAR