BEGIN:VCALENDAR
VERSION:2.0
PRODID:-//Tukios.com/
BEGIN:VEVENT
UID:aa965c53-e059-40c6-8de9-8de3b695020b@www.bockenfunerals.com
DTSTAMP:20260421T070435Z
DTSTART:20260425T190000Z
DTEND:20260425T200000Z
SUMMARY:Celebration of Life
DESCRIPTION:
URL:https://www.bockenfunerals.com/obituaries/sylvia-de-la-rosa
LOCATION: 7042 Kennedy Ave  Hammond IN 46323
GEO:41.5853013;-87.4619977
END:VEVENT
END:VCALENDAR